{"text_format":"1","workbook":"xlsx","n_sheets":6,"sheets":["Restkarten","22.März Premiere","29.März","05.April","06.April","Theater&Genuss"],"not_rendered":{"charts":0,"images":0,"macros":0,"external_links":0,"defined_names":0,"comments":1,"pivot_tables":0},"unopened":[],"bounds":{"document_bytes":16777216,"sheet_cells":100000,"rows_first":2000,"rows_last":500,"rows_between":2000,"halvings":0,"cell_chars":16384,"cell_head_chars":4096},"cells_cut":0,"cells_raw":0,"read":"whole","date_system":"1900"}

{"sheet":"Restkarten","index":0,"n_rows":19,"n_cols":8,"rows_kept":19,"cut":false,"hidden":false,"merged":[]}
["Restkarten","2014-03-22","2014-03-29","2014-04-05","2014-04-06","Theater&Genuss","erhalten","Verkauft"]
["Teams"]
["Stippich Günther",{"$f":"26-B16","v":26},{"$f":"26-C16","v":26},26,{"$f":"1-E16","v":1},{"$f":"25-F16","v":25},{"$f":"SUM(B3:F3)","v":104},{"$f":"SUM(G3)-104","v":0}]
["Kucher Gerwald , Auto Kucher",26,26,26,26,null,{"$f":"SUM(B4:F4)","v":104},{"$f":"SUM(G4)-104","v":0}]
["Gönitzer Sigi, Raiffeisenbank",26,26,26,1,25,104,0]
["Größing Michael,Kerstin,Angelika Fasching",13,13,13,13,null,52,{"$f":"SUM(G6)-52","v":0}]
["Draxl Michaela Tommi Reinhold usw",13,13,13,13,null,52,{"$f":"SUM(G7)-52","v":0}]
["Gutsche Andrea Dieter Julia Christiana",13,13,13,13,null,52,0]
["Zernig Renate Anton u. Sarah",13,13,13,13,null,52,0]
["Brand Bernhard u. Anita",13,13,13,13,null,52,0]
["Weber Silvia,Andrea Payer,Stefanie Duller",13,13,13,13,null,52,0]
["Wutscher Helga Karl u Sabrina",13,13,13,13,null,52,0]
["Gönitzer Hemma ,Daniel Viktoria",13,13,13,13,null,52,0]
[]
["Freie Karten",{"$f":"SUM(B3:B13)","v":182},{"$f":"SUM(C3:C13)","v":182},{"$f":"SUM(D3:D13)","v":182},{"$f":"SUM(E3:E13)","v":132},{"$f":"SUM(F3:F13)","v":50},{"$f":"SUM(G3:G14)","v":728},{"$f":"SUM(H3:H14)","v":0}]
["Reservierte Karten vom Günther ",{"$f":"'22.März Premiere'!B35","v":0},{"$f":"'29.März'!B35","v":0},{"$f":"'05.April'!B35","v":0},{"$f":"'06.April'!B35","v":0},{"$f":"'Theater&Genuss'!B35","v":0},{"$f":"SUM(B16:F16)","v":0}]
["Gesamt freie Karten",{"$f":"B15","v":182},{"$f":"C15","v":182},182,132,50]
["Sitzplätze",182,182,182,132,50]
["Gesamt Verkaufte Karten",{"$f":"B18-B17","v":0},0,0,0,0]

{"sheet":"22.März Premiere","index":1,"n_rows":35,"n_cols":3,"rows_kept":35,"cut":false,"hidden":false,"merged":[]}
["Kartenverkauf 22.März 2014"]
["Name","Stück","Notizen"]
[]
[]
[]
[]
[]
[]
[]
[]
[]
[]
[]
[]
[]
[]
[]
[]
[]
[]
[]
[]
[]
[]
[]
[]
[]
[]
[]
[]
[]
[]
[]
[]
["Gesamt",{"$f":"SUM(B3:B33)","v":0}]

{"sheet":"29.März","index":2,"n_rows":35,"n_cols":3,"rows_kept":35,"cut":false,"hidden":false,"merged":[]}
["Kartenverkauf 29.März 2014"]
["Name","Stück","Notizen"]
[]
[]
[]
[]
[]
[]
[]
[]
[]
[]
[]
[]
[]
[]
[]
[]
[]
[]
[]
[]
[]
[]
[]
[]
[]
[]
[]
[]
[]
[]
[]
[]
["Gesamt",{"$f":"SUM(B3:B33)","v":0}]

{"sheet":"05.April","index":3,"n_rows":35,"n_cols":3,"rows_kept":35,"cut":false,"hidden":false,"merged":[]}
["Kartenverkauf 05 April 2014"]
["Name","Stück","Notizen"]
[]
[]
[]
[]
[]
[]
[]
[]
[]
[]
[]
[]
[]
[]
[]
[]
[]
[]
[]
[]
[]
[]
[]
[]
[]
[]
[]
[]
[]
[]
[]
[]
["Gesamt",{"$f":"SUM(B3:B34)","v":0}]

{"sheet":"06.April","index":4,"n_rows":35,"n_cols":3,"rows_kept":35,"cut":false,"hidden":false,"merged":[]}
["Kartenverkauf 06 April 2014"]
["Name","Stück","Notizen"]
[]
[]
[]
[]
[]
[]
[]
[]
[]
[]
[]
[]
[]
[]
[]
[]
[]
[]
[]
[]
[]
[]
[]
[]
[]
[]
[]
[]
[]
[]
[]
[]
["Gesamt",{"$f":"SUM(B3:B34)","v":0}]

{"sheet":"Theater&Genuss","index":5,"n_rows":35,"n_cols":3,"rows_kept":35,"cut":false,"hidden":false,"merged":[]}
["Kartenverkauf 06 April 2014"]
["Name","Stück","Notizen"]
[]
[]
[]
[]
[]
[]
[]
[]
[]
[]
[]
[]
[]
[]
[]
[]
[]
[]
[]
[]
[]
[]
[]
[]
[]
[]
[]
[]
[]
[]
[]
[]
["Gesamt",{"$f":"SUM(B3:B34)","v":0}]